BEGIN:VCALENDAR
VERSION:2.0
PRODID:-//The Simulation Pulse - ECPv6.15.17//NONSGML v1.0//EN
CALSCALE:GREGORIAN
METHOD:PUBLISH
X-ORIGINAL-URL:https://simulationpulse.com
X-WR-CALDESC:Events for The Simulation Pulse
REFRESH-INTERVAL;VALUE=DURATION:PT1H
X-Robots-Tag:noindex
X-PUBLISHED-TTL:PT1H
BEGIN:VTIMEZONE
TZID:America/New_York
BEGIN:DAYLIGHT
TZOFFSETFROM:-0500
TZOFFSETTO:-0400
TZNAME:EDT
DTSTART:20250309T070000
END:DAYLIGHT
BEGIN:STANDARD
TZOFFSETFROM:-0400
TZOFFSETTO:-0500
TZNAME:EST
DTSTART:20251102T060000
END:STANDARD
BEGIN:DAYLIGHT
TZOFFSETFROM:-0500
TZOFFSETTO:-0400
TZNAME:EDT
DTSTART:20260308T070000
END:DAYLIGHT
BEGIN:STANDARD
TZOFFSETFROM:-0400
TZOFFSETTO:-0500
TZNAME:EST
DTSTART:20261101T060000
END:STANDARD
BEGIN:DAYLIGHT
TZOFFSETFROM:-0500
TZOFFSETTO:-0400
TZNAME:EDT
DTSTART:20270314T070000
END:DAYLIGHT
BEGIN:STANDARD
TZOFFSETFROM:-0400
TZOFFSETTO:-0500
TZNAME:EST
DTSTART:20271107T060000
END:STANDARD
END:VTIMEZONE
BEGIN:VEVENT
DTSTART;TZID=America/New_York:20260224T110000
DTEND;TZID=America/New_York:20260224T130000
DTSTAMP:20260421T175617
CREATED:20260220T123844Z
LAST-MODIFIED:20260220T123844Z
UID:20105-1771930800-1771938000@simulationpulse.com
SUMMARY:Webinar: Updated NVH Solvers in Ansys LS-DYNA
DESCRIPTION:Join the webinar to explore recent updates to NVH solvers in Ansys LS-DYNA\, including developments in vibration\, acoustic and fatigue analysis. The session outlines methodological changes and demonstrates their application within engineering simulation workflows. \nFor registration click here..
URL:https://simulationpulse.com/event/webinar-updated-nvh-solvers-in-ansys-ls-dyna/
ATTACH;FMTTYPE=image/jpeg:https://simulationpulse.com/wp-content/uploads/2026/02/nvh.jpg
END:VEVENT
END:VCALENDAR