BEGIN:VCALENDAR
VERSION:2.0
PRODID:-//The Simulation Pulse - ECPv6.15.17//NONSGML v1.0//EN
CALSCALE:GREGORIAN
METHOD:PUBLISH
X-WR-CALNAME:The Simulation Pulse
X-ORIGINAL-URL:https://simulationpulse.com
X-WR-CALDESC:Events for The Simulation Pulse
REFRESH-INTERVAL;VALUE=DURATION:PT1H
X-Robots-Tag:noindex
X-PUBLISHED-TTL:PT1H
BEGIN:VTIMEZONE
TZID:Europe/Berlin
BEGIN:DAYLIGHT
TZOFFSETFROM:+0100
TZOFFSETTO:+0200
TZNAME:CEST
DTSTART:20250330T010000
END:DAYLIGHT
BEGIN:STANDARD
TZOFFSETFROM:+0200
TZOFFSETTO:+0100
TZNAME:CET
DTSTART:20251026T010000
END:STANDARD
BEGIN:DAYLIGHT
TZOFFSETFROM:+0100
TZOFFSETTO:+0200
TZNAME:CEST
DTSTART:20260329T010000
END:DAYLIGHT
BEGIN:STANDARD
TZOFFSETFROM:+0200
TZOFFSETTO:+0100
TZNAME:CET
DTSTART:20261025T010000
END:STANDARD
BEGIN:DAYLIGHT
TZOFFSETFROM:+0100
TZOFFSETTO:+0200
TZNAME:CEST
DTSTART:20270328T010000
END:DAYLIGHT
BEGIN:STANDARD
TZOFFSETFROM:+0200
TZOFFSETTO:+0100
TZNAME:CET
DTSTART:20271031T010000
END:STANDARD
END:VTIMEZONE
BEGIN:VTIMEZONE
TZID:America/Los_Angeles
BEGIN:DAYLIGHT
TZOFFSETFROM:-0800
TZOFFSETTO:-0700
TZNAME:PDT
DTSTART:20250309T100000
END:DAYLIGHT
BEGIN:STANDARD
TZOFFSETFROM:-0700
TZOFFSETTO:-0800
TZNAME:PST
DTSTART:20251102T090000
END:STANDARD
BEGIN:DAYLIGHT
TZOFFSETFROM:-0800
TZOFFSETTO:-0700
TZNAME:PDT
DTSTART:20260308T100000
END:DAYLIGHT
BEGIN:STANDARD
TZOFFSETFROM:-0700
TZOFFSETTO:-0800
TZNAME:PST
DTSTART:20261101T090000
END:STANDARD
BEGIN:DAYLIGHT
TZOFFSETFROM:-0800
TZOFFSETTO:-0700
TZNAME:PDT
DTSTART:20270314T100000
END:DAYLIGHT
BEGIN:STANDARD
TZOFFSETFROM:-0700
TZOFFSETTO:-0800
TZNAME:PST
DTSTART:20271107T090000
END:STANDARD
END:VTIMEZONE
BEGIN:VTIMEZONE
TZID:Asia/Kolkata
BEGIN:STANDARD
TZOFFSETFROM:+0530
TZOFFSETTO:+0530
TZNAME:IST
DTSTART:20250101T000000
END:STANDARD
END:VTIMEZONE
BEGIN:VEVENT
DTSTART;TZID=Europe/Berlin:20260310T180000
DTEND;TZID=Europe/Berlin:20260310T193000
DTSTAMP:20260420T221915
CREATED:20260305T103500Z
LAST-MODIFIED:20260305T103500Z
UID:20523-1773165600-1773171000@simulationpulse.com
SUMMARY:Rescale Data Intelligence Platform Demo
DESCRIPTION:Engineering teams generate vast volumes of simulation data\, often scattered across tools and systems. This demo explores how Rescale Data Intelligence helps unify and analyze engineering data to accelerate R&D insights and decision-making across digital engineering workflows. \nJoin the session to explore: \n\nTransforming simulation data into structured\, searchable insights\nAI-powered analysis and automated engineering workflows\nIntegrating simulation data with PLM\, cloud storage\, and existing engineering systems to build a unified digital thread\n\nFor registration click here..
URL:https://simulationpulse.com/event/rescale-data-intelligence-platform-demo/
ATTACH;FMTTYPE=image/jpeg:https://simulationpulse.com/wp-content/uploads/2026/03/uij.jpg
END:VEVENT
BEGIN:VEVENT
DTSTART;VALUE=DATE:20260316
DTEND;VALUE=DATE:20260320
DTSTAMP:20260420T221915
CREATED:20260313T064205Z
LAST-MODIFIED:20260313T064205Z
UID:20811-1773619200-1773964799@simulationpulse.com
SUMMARY:NVIDIA GTC AI Conference 2026
DESCRIPTION:NVIDIA GTC is a technology conference centered on advancements in AI infrastructure\, GPU computing\, and accelerated software development. \nSessions focus on topics such as generative AI\, large language models\, robotics simulation\, digital twins\, and high-performance computing. The program highlights NVIDIA platforms and tools including CUDA\, NVIDIA Omniverse\, TensorRT\, NVIDIA AI Enterprise\, and frameworks used for training and deploying AI models at scale. Technical talks\, workshops\, and research presentations explore practical implementations across industries such as autonomous systems\, healthcare imaging\, and data-center scale AI workloads. \nParticipants can attend the event in San Jose or access sessions virtually. \nFor registration click here..
URL:https://simulationpulse.com/event/nvidia-gtc-ai-conference-2026/
LOCATION:San Jose McEnery Convention Center\, 150 W. San Carlos Street\, San Jose\, California (CA)\, 95113\, United States
ATTACH;FMTTYPE=image/jpeg:https://simulationpulse.com/wp-content/uploads/2026/03/56.jpg
END:VEVENT
BEGIN:VEVENT
DTSTART;TZID=Asia/Kolkata:20260331T093000
DTEND;TZID=Asia/Kolkata:20260401T133000
DTSTAMP:20260420T221915
CREATED:20260312T103656Z
LAST-MODIFIED:20260312T103656Z
UID:20808-1774949400-1775050200@simulationpulse.com
SUMMARY:Siemens Future.Industry 2026
DESCRIPTION:Future.Industry 2026 is a global virtual event organized by Altair (now part of Siemens) that focuses on emerging technologies influencing modern engineering and industrial development. \nThe event brings together professionals\, researchers\, and technology leaders to discuss advancements in areas such as artificial intelligence\, simulation\, data analytics\, and high-performance computing. Through a series of keynote presentations\, panel discussions\, and technical sessions\, participants can explore how these technologies are being applied across sectors including automotive\, aerospace\, manufacturing\, and energy. \nThe program highlights current trends in digital transformation and computational engineering while providing insights from industry experts and technology developers. Future.Industry serves as a platform for sharing perspectives on how advanced computing and data-driven approaches are shaping the future of industrial innovation. \nFor registration click here..
URL:https://simulationpulse.com/event/siemens-future-industry-2026/
ATTACH;FMTTYPE=image/jpeg:https://simulationpulse.com/wp-content/uploads/2026/03/55.jpg
END:VEVENT
BEGIN:VEVENT
DTSTART;TZID=Asia/Kolkata:20260331T150000
DTEND;TZID=Asia/Kolkata:20260331T160000
DTSTAMP:20260420T221915
CREATED:20260326T132725Z
LAST-MODIFIED:20260326T132747Z
UID:21191-1774969200-1774972800@simulationpulse.com
SUMMARY:Webinar: Supercharge Simulations on Cloud with Ansys Cloud Burst
DESCRIPTION:This webinar aims to provide insights into using cloud-based high-performance computing to accelerate engineering simulations and improve workflow efficiency. It focuses on overcoming hardware limitations by enabling scalable\, on-demand compute resources integrated with simulation tools. \nAttendees will learn: \nUse of cloud computing to run complex simulations faster\nSimplified deployment and reduced dependence on local infrastructure\nFlexible\, pay-as-you-use computing models\nStreamlined processes for submitting\, monitoring\, and sharing simulation results \nFor registration click here..
URL:https://simulationpulse.com/event/webinar-supercharge-simulations-on-the-cloud-with-ansys-cloud-burst/
ATTACH;FMTTYPE=image/jpeg:https://simulationpulse.com/wp-content/uploads/2026/03/80.jpg
END:VEVENT
END:VCALENDAR