BEGIN:VCALENDAR
VERSION:2.0
PRODID:-//The Simulation Pulse - ECPv6.15.17//NONSGML v1.0//EN
CALSCALE:GREGORIAN
METHOD:PUBLISH
X-WR-CALNAME:The Simulation Pulse
X-ORIGINAL-URL:https://simulationpulse.com
X-WR-CALDESC:Events for The Simulation Pulse
REFRESH-INTERVAL;VALUE=DURATION:PT1H
X-Robots-Tag:noindex
X-PUBLISHED-TTL:PT1H
BEGIN:VTIMEZONE
TZID:Asia/Kolkata
BEGIN:STANDARD
TZOFFSETFROM:+0530
TZOFFSETTO:+0530
TZNAME:IST
DTSTART:20250101T000000
END:STANDARD
END:VTIMEZONE
BEGIN:VEVENT
DTSTART;TZID=Asia/Kolkata:20260121T203000
DTEND;TZID=Asia/Kolkata:20260121T233000
DTSTAMP:20260421T024011
CREATED:20260115T120815Z
LAST-MODIFIED:20260115T120918Z
UID:18996-1769027400-1769038200@simulationpulse.com
SUMMARY:NAFEMS e-Learning course: Basic Finite Element Analysis
DESCRIPTION:New to FEA and concerned about how to use it in the real world? This course gives you practical advice with a minimum of theory. The six-session course offers guidance on how to assess and plan the task of carrying out structural analysis using FEA. \nJoin Session 1 to explore:\n\nHistory and background\nFEA Process\nElement Stiffness Matrices\nAvoiding Free Motion\nSpreadsheet Bar Solver\nDegrees of Freedom\nHomework\n\nFor registration click here..
URL:https://simulationpulse.com/event/nafems-e-learning-course-basic-finite-element-analysis/
ATTACH;FMTTYPE=image/jpeg:https://simulationpulse.com/wp-content/uploads/2026/01/P17.jpg
END:VEVENT
BEGIN:VEVENT
DTSTART;TZID=Asia/Kolkata:20260130T093000
DTEND;TZID=Asia/Kolkata:20260130T170000
DTSTAMP:20260421T024011
CREATED:20260127T104927Z
LAST-MODIFIED:20260127T104927Z
UID:19350-1769765400-1769792400@simulationpulse.com
SUMMARY:COMSOL Day Mumbai: Multiphysics Modeling and Industry Insights
DESCRIPTION:This in-person event at The Orchid Hotel Mumbai offers a deep dive into multiphysics modeling\, featuring a mix of technical demos and industry-led keynote talks. Attendees can explore the latest updates in COMSOL Multiphysics version 6.4\, including specialized sessions on electromagnetics\, fluid flow\, and structural mechanics\, while networking with experts. \nFor registration click here..
URL:https://simulationpulse.com/event/comsol-day-mumbai-multiphysics-modeling-and-industry-insights/
LOCATION:The Orchid Hotel Mumbai Vile Parle Chamber\, 70/C\, Nehru Road\, Adjacent to Domestic Airport\, Vile Parle (E)\, Mumbai\, Maharashtra\, 400099\, India
ATTACH;FMTTYPE=image/jpeg:https://simulationpulse.com/wp-content/uploads/2026/01/P12.jpg
END:VEVENT
END:VCALENDAR