BEGIN:VCALENDAR
VERSION:2.0
PRODID:-//The Simulation Pulse - ECPv6.15.17//NONSGML v1.0//EN
CALSCALE:GREGORIAN
METHOD:PUBLISH
X-ORIGINAL-URL:https://simulationpulse.com
X-WR-CALDESC:Events for The Simulation Pulse
REFRESH-INTERVAL;VALUE=DURATION:PT1H
X-Robots-Tag:noindex
X-PUBLISHED-TTL:PT1H
BEGIN:VTIMEZONE
TZID:Asia/Kolkata
BEGIN:STANDARD
TZOFFSETFROM:+0530
TZOFFSETTO:+0530
TZNAME:IST
DTSTART:20240101T000000
END:STANDARD
END:VTIMEZONE
BEGIN:VEVENT
DTSTART;TZID=Asia/Kolkata:20251218T160000
DTEND;TZID=Asia/Kolkata:20251218T170000
DTSTAMP:20260423T023313
CREATED:20251217T163608Z
LAST-MODIFIED:20251217T163608Z
UID:18375-1766073600-1766077200@simulationpulse.com
SUMMARY:oorja Webinar: The Importance Of OCV Curves In Understanding Battery Behaviour
DESCRIPTION:OCV curves are one of the most fundamental components of battery modelling. They capture the true electrochemical behaviour of a cell at rest and form the baseline for accurate SOC estimation\, thermal modelling\, ageing prediction\, and safety analysis. \nThis webinar aims to break down how OCV curves are measured\, what they reveal about battery chemistry\, and why they are essential inputs for our hybrid Physics+ML approach. Whether you’re designing next-generation EV batteries\, calibrating digital twins\, or optimising fleet performance\, understanding OCV behaviour is critical to achieving high-fidelity simulations and faster model development cycles.
URL:https://simulationpulse.com/event/oorja-webinar-the-importance-of-ocv-curves-in-understanding-battery-behaviour/
ATTACH;FMTTYPE=image/jpeg:https://simulationpulse.com/wp-content/uploads/2025/12/P5.jpg
END:VEVENT
END:VCALENDAR