BEGIN:VCALENDAR
VERSION:2.0
PRODID:-//The Simulation Pulse - ECPv6.15.17//NONSGML v1.0//EN
CALSCALE:GREGORIAN
METHOD:PUBLISH
X-ORIGINAL-URL:https://simulationpulse.com
X-WR-CALDESC:Events for The Simulation Pulse
REFRESH-INTERVAL;VALUE=DURATION:PT1H
X-Robots-Tag:noindex
X-PUBLISHED-TTL:PT1H
BEGIN:VTIMEZONE
TZID:Asia/Kolkata
BEGIN:STANDARD
TZOFFSETFROM:+0530
TZOFFSETTO:+0530
TZNAME:IST
DTSTART:20250101T000000
END:STANDARD
END:VTIMEZONE
BEGIN:VTIMEZONE
TZID:America/Mexico_City
BEGIN:STANDARD
TZOFFSETFROM:-0600
TZOFFSETTO:-0600
TZNAME:CST
DTSTART:20250101T000000
END:STANDARD
END:VTIMEZONE
BEGIN:VEVENT
DTSTART;TZID=Asia/Kolkata:20260122T160000
DTEND;TZID=Asia/Kolkata:20260122T170000
DTSTAMP:20260421T152229
CREATED:20260115T163845Z
LAST-MODIFIED:20260115T163845Z
UID:19011-1769097600-1769101200@simulationpulse.com
SUMMARY:oorja Webinar: Virtual Battery SIL Integration: Fault Injection\, Diagnostics\, and System Behaviour
DESCRIPTION:Battery faults are rare\, unpredictable\, and difficult to test safely—yet they are the very scenarios that define the robustness of an EV or energy storage system. In this webinar\, oorja unveils a breakthrough capability: a virtual battery that lives inside your SIL environment\, allowing controlled\, repeatable fault injection without risking hardware or safety. \nThis digital twin behaves like a real battery pack\, with chemistry-specific behavior\, thermal behavior\, degradation\, and more. OEMs\, pack manufacturers\, and cell developers can now introduce faults at will\, observe system-level responses\, and fine-tune diagnostic\, BMS\, and safety algorithms with unprecedented precision. \nThink of it as placing a faulty battery pack inside an EV—but doing it entirely virtually. \nFor registration click here..
URL:https://simulationpulse.com/event/oorja-webinar-virtual-battery-sil-integration-fault-injection-diagnostics-and-system-behaviour/
ATTACH;FMTTYPE=image/jpeg:https://simulationpulse.com/wp-content/uploads/2026/01/P20.jpg
END:VEVENT
BEGIN:VEVENT
DTSTART;TZID=Asia/Kolkata:20260127T213000
DTEND;TZID=Asia/Kolkata:20260127T233000
DTSTAMP:20260421T152229
CREATED:20260121T072317Z
LAST-MODIFIED:20260123T095208Z
UID:19089-1769549400-1769556600@simulationpulse.com
SUMMARY:Ansys Webinar: From System Architecture to Digital Twin: Accelerate Robotics with MBSE
DESCRIPTION:Robots are increasingly essential in various industries. This webinar will cover using a Model-Based Systems Engineering approach for creating requirements and architecture in robotics. \nWhat Attendees Will Learn: \n\nBridge system architecture to system-level simulation\nPerform system-level simulation with integrated reduced-order models\, 0D/1D components\, and control systems\nDefine\, design\, and test embedded software while conducting safety and cybersecurity analyses\nGenerate a digital twin and deploy it on the cloud\, at the edge\, or within NVIDIA Omniverse\n\nFor registration click here..
URL:https://simulationpulse.com/event/ansys-webinar-from-system-architecture-to-digital-twin-accelerate-robotics-with-mbse/
ATTACH;FMTTYPE=image/jpeg:https://simulationpulse.com/wp-content/uploads/2026/01/P23.jpg
END:VEVENT
BEGIN:VEVENT
DTSTART;TZID=America/Mexico_City:20260129T080000
DTEND;TZID=America/Mexico_City:20260129T090000
DTSTAMP:20260421T152229
CREATED:20260123T095117Z
LAST-MODIFIED:20260123T095117Z
UID:19308-1769673600-1769677200@simulationpulse.com
SUMMARY:SmartUQ Webinar: Modern Design of Experiments\, Machine Learning\, and Calibration for COMSOL Simulation and Digital Twins
DESCRIPTION:Getting the most out of COMSOL simulations requires efficient use of the available simulation budget as well as validating that the simulation produces results that agree with reality. This webinar will discuss the role design of experiments\, predictive machine learning models (aka surrogate models)\, and machine learning tools such as statistical calibration play in calibrating COMSOL simulations to physical data\, validating their accuracy\, and maximizing the knowledge gained from their use. \nFor registration click here..
URL:https://simulationpulse.com/event/smartuq-webinar-modern-design-of-experiments-machine-learning-and-calibration-for-comsol-simulation-and-digital-twins/
ATTACH;FMTTYPE=image/jpeg:https://simulationpulse.com/wp-content/uploads/2026/01/P29.jpg
END:VEVENT
END:VCALENDAR