BEGIN:VCALENDAR
VERSION:2.0
PRODID:-//The Simulation Pulse - ECPv6.15.17//NONSGML v1.0//EN
CALSCALE:GREGORIAN
METHOD:PUBLISH
X-WR-CALNAME:The Simulation Pulse
X-ORIGINAL-URL:https://simulationpulse.com
X-WR-CALDESC:Events for The Simulation Pulse
REFRESH-INTERVAL;VALUE=DURATION:PT1H
X-Robots-Tag:noindex
X-PUBLISHED-TTL:PT1H
BEGIN:VTIMEZONE
TZID:Asia/Kolkata
BEGIN:STANDARD
TZOFFSETFROM:+0530
TZOFFSETTO:+0530
TZNAME:IST
DTSTART:20250101T000000
END:STANDARD
END:VTIMEZONE
BEGIN:VEVENT
DTSTART;TZID=Asia/Kolkata:20260428T183000
DTEND;TZID=Asia/Kolkata:20260428T193000
DTSTAMP:20260422T205406
CREATED:20260421T145325Z
LAST-MODIFIED:20260421T145325Z
UID:22057-1777401000-1777404600@simulationpulse.com
SUMMARY:Mathworks webinar: Real-Time Power Systems Simulation
DESCRIPTION:This webinar outlines methods for configuring power system simulation models for real-time deployment using Simulink Real-Time and Simscape. It aims to demonstrate a 57-bus transmission system distributed across two processor cores with Bergeron transmission lines\, while also covering integration of the real-time model with external control hardware and testing workflows. \nFor registration click here..
URL:https://simulationpulse.com/event/mathworks-webinar-real-time-power-systems-simulation/
ATTACH;FMTTYPE=image/jpeg:https://simulationpulse.com/wp-content/uploads/2026/04/131.jpg
END:VEVENT
END:VCALENDAR