BEGIN:VCALENDAR
VERSION:2.0
PRODID:-//The Simulation Pulse - ECPv6.15.17//NONSGML v1.0//EN
CALSCALE:GREGORIAN
METHOD:PUBLISH
X-WR-CALNAME:The Simulation Pulse
X-ORIGINAL-URL:https://simulationpulse.com
X-WR-CALDESC:Events for The Simulation Pulse
REFRESH-INTERVAL;VALUE=DURATION:PT1H
X-Robots-Tag:noindex
X-PUBLISHED-TTL:PT1H
BEGIN:VTIMEZONE
TZID:Asia/Singapore
BEGIN:STANDARD
TZOFFSETFROM:+0800
TZOFFSETTO:+0800
TZNAME:+08
DTSTART:20250101T000000
END:STANDARD
END:VTIMEZONE
BEGIN:VTIMEZONE
TZID:Europe/London
BEGIN:DAYLIGHT
TZOFFSETFROM:+0000
TZOFFSETTO:+0100
TZNAME:BST
DTSTART:20250330T010000
END:DAYLIGHT
BEGIN:STANDARD
TZOFFSETFROM:+0100
TZOFFSETTO:+0000
TZNAME:GMT
DTSTART:20251026T010000
END:STANDARD
BEGIN:DAYLIGHT
TZOFFSETFROM:+0000
TZOFFSETTO:+0100
TZNAME:BST
DTSTART:20260329T010000
END:DAYLIGHT
BEGIN:STANDARD
TZOFFSETFROM:+0100
TZOFFSETTO:+0000
TZNAME:GMT
DTSTART:20261025T010000
END:STANDARD
BEGIN:DAYLIGHT
TZOFFSETFROM:+0000
TZOFFSETTO:+0100
TZNAME:BST
DTSTART:20270328T010000
END:DAYLIGHT
BEGIN:STANDARD
TZOFFSETFROM:+0100
TZOFFSETTO:+0000
TZNAME:GMT
DTSTART:20271031T010000
END:STANDARD
END:VTIMEZONE
BEGIN:VEVENT
DTSTART;TZID=Asia/Singapore:20260421T130000
DTEND;TZID=Asia/Singapore:20260421T143000
DTSTAMP:20260421T023603
CREATED:20260415T204218Z
LAST-MODIFIED:20260415T204218Z
UID:21751-1776776400-1776781800@simulationpulse.com
SUMMARY:3DEXPERIENCE Modeling & Simulation Summit
DESCRIPTION:This global event explores the integration of artificial intelligence within modeling and simulation (MODSIM). It aims to demonstrate how a unified data model on the 3DEXPERIENCE platform supports: \n\nAssessing the impact of design changes\nEnabling collaboration across engineering functions\nManaging resources across industries such as aerospace\, transportation\, and construction\n\nIndustry representatives from Jaguar Land Rover and HORYZN will share applied use cases and approaches to managing complex engineering data. \nFor registration click here..
URL:https://simulationpulse.com/event/3dexperience-modeling-simulation-summit/
ATTACH;FMTTYPE=image/jpeg:https://simulationpulse.com/wp-content/uploads/2026/04/122.jpg
END:VEVENT
BEGIN:VEVENT
DTSTART;TZID=Europe/London:20260421T140000
DTEND;TZID=Europe/London:20260421T150000
DTSTAMP:20260421T023603
CREATED:20260415T204838Z
LAST-MODIFIED:20260415T204838Z
UID:21757-1776780000-1776783600@simulationpulse.com
SUMMARY:Webinar: Modeling Heat Transfer of Spacecraft with COMSOL Multiphysics®
DESCRIPTION:This webinar explores thermal analysis for spacecraft and satellite design using COMSOL Multiphysics®. It aims to address the challenges of maintaining temperature-sensitive components within safe ranges to prevent structural deformation or damage. The session includes a demonstration of computing solar\, albedo\, and Earth infrared radiative heat loads\, while illustrating how these variables influence temperature fields in orbit over time. \nFor registration click here..
URL:https://simulationpulse.com/event/webinar-modeling-heat-transfer-of-spacecraft-with-comsol-multiphysics/
ATTACH;FMTTYPE=image/jpeg:https://simulationpulse.com/wp-content/uploads/2026/04/123.jpg
END:VEVENT
END:VCALENDAR